BEGIN:VCALENDAR
VERSION:2.0
PRODID:-//La Commune de Gesves - ECPv6.15.20//NONSGML v1.0//EN
CALSCALE:GREGORIAN
METHOD:PUBLISH
X-WR-CALNAME:La Commune de Gesves
X-ORIGINAL-URL:http://www.gesves.be
X-WR-CALDESC:Évènements pour La Commune de Gesves
REFRESH-INTERVAL;VALUE=DURATION:PT1H
X-Robots-Tag:noindex
X-PUBLISHED-TTL:PT1H
BEGIN:VTIMEZONE
TZID:Europe/Brussels
BEGIN:DAYLIGHT
TZOFFSETFROM:+0100
TZOFFSETTO:+0200
TZNAME:CEST
DTSTART:20210328T010000
END:DAYLIGHT
BEGIN:STANDARD
TZOFFSETFROM:+0200
TZOFFSETTO:+0100
TZNAME:CET
DTSTART:20211031T010000
END:STANDARD
BEGIN:DAYLIGHT
TZOFFSETFROM:+0100
TZOFFSETTO:+0200
TZNAME:CEST
DTSTART:20220327T010000
END:DAYLIGHT
BEGIN:STANDARD
TZOFFSETFROM:+0200
TZOFFSETTO:+0100
TZNAME:CET
DTSTART:20221030T010000
END:STANDARD
BEGIN:DAYLIGHT
TZOFFSETFROM:+0100
TZOFFSETTO:+0200
TZNAME:CEST
DTSTART:20230326T010000
END:DAYLIGHT
BEGIN:STANDARD
TZOFFSETFROM:+0200
TZOFFSETTO:+0100
TZNAME:CET
DTSTART:20231029T010000
END:STANDARD
END:VTIMEZONE
BEGIN:VEVENT
DTSTART;TZID=Europe/Brussels:20220720T200000
DTEND;TZID=Europe/Brussels:20220720T200000
DTSTAMP:20260420T220025
CREATED:20220628T101655Z
LAST-MODIFIED:20220628T123203Z
UID:17509-1658347200-1658347200@www.gesves.be
SUMMARY:Festivités du 21 juillet 2022
DESCRIPTION:
URL:http://www.gesves.be/event/festivite-du-21-juillet-2022/
LOCATION:Chateau d’Haltinne\, rue d'Haltinne\, 3-15\, Haltinne\, 5340\, Belgique
CATEGORIES:Festivités
ORGANIZER;CN="Administration communale de Gesves - Manifestations":MAILTO:nathalie.seine@gesves.be
END:VEVENT
END:VCALENDAR