BEGIN:VCALENDAR
VERSION:2.0
PRODID:-//La Commune de Gesves - ECPv6.15.20//NONSGML v1.0//EN
CALSCALE:GREGORIAN
METHOD:PUBLISH
X-WR-CALNAME:La Commune de Gesves
X-ORIGINAL-URL:http://www.gesves.be
X-WR-CALDESC:Évènements pour La Commune de Gesves
REFRESH-INTERVAL;VALUE=DURATION:PT1H
X-Robots-Tag:noindex
X-PUBLISHED-TTL:PT1H
BEGIN:VTIMEZONE
TZID:Europe/Brussels
BEGIN:DAYLIGHT
TZOFFSETFROM:+0100
TZOFFSETTO:+0200
TZNAME:CEST
DTSTART:20210328T010000
END:DAYLIGHT
BEGIN:STANDARD
TZOFFSETFROM:+0200
TZOFFSETTO:+0100
TZNAME:CET
DTSTART:20211031T010000
END:STANDARD
BEGIN:DAYLIGHT
TZOFFSETFROM:+0100
TZOFFSETTO:+0200
TZNAME:CEST
DTSTART:20220327T010000
END:DAYLIGHT
BEGIN:STANDARD
TZOFFSETFROM:+0200
TZOFFSETTO:+0100
TZNAME:CET
DTSTART:20221030T010000
END:STANDARD
BEGIN:DAYLIGHT
TZOFFSETFROM:+0100
TZOFFSETTO:+0200
TZNAME:CEST
DTSTART:20230326T010000
END:DAYLIGHT
BEGIN:STANDARD
TZOFFSETFROM:+0200
TZOFFSETTO:+0100
TZNAME:CET
DTSTART:20231029T010000
END:STANDARD
END:VTIMEZONE
BEGIN:VEVENT
DTSTART;TZID=Europe/Brussels:20220507T140000
DTEND;TZID=Europe/Brussels:20220508T010000
DTSTAMP:20260420T185847
CREATED:20220419T074054Z
LAST-MODIFIED:20220419T074328Z
UID:16345-1651932000-1651971600@www.gesves.be
SUMMARY:Marché de Printemps 2022
DESCRIPTION:
URL:http://www.gesves.be/event/marche-de-printemps-2022-copy/
LOCATION:Administration communale de Gesves\, chaussée de Gramptinne\, 112\, Gesves\, Namur\, 5340\, Belgium
CATEGORIES:Festivités
ORGANIZER;CN="Administration communale de Gesves - Manifestations":MAILTO:nathalie.seine@gesves.be
END:VEVENT
BEGIN:VEVENT
DTSTART;TZID=Europe/Brussels:20220508T110000
DTEND;TZID=Europe/Brussels:20220508T220000
DTSTAMP:20260420T185847
CREATED:20220419T074339Z
LAST-MODIFIED:20220419T074448Z
UID:16348-1652007600-1652047200@www.gesves.be
SUMMARY:Marché de Printemps 2022
DESCRIPTION:
URL:http://www.gesves.be/event/marche-de-printemps-2022-copy-copy/
LOCATION:Administration communale de Gesves\, chaussée de Gramptinne\, 112\, Gesves\, Namur\, 5340\, Belgium
CATEGORIES:Festivités
ORGANIZER;CN="Administration communale de Gesves - Manifestations":MAILTO:nathalie.seine@gesves.be
END:VEVENT
END:VCALENDAR